BEGIN:VCALENDAR
VERSION:2.0
PRODID:-//The Bach Choir of Bethlehem - ECPv5.16.3.1//NONSGML v1.0//EN
CALSCALE:GREGORIAN
METHOD:PUBLISH
X-WR-CALNAME:The Bach Choir of Bethlehem
X-ORIGINAL-URL:https://bach.org
X-WR-CALDESC:Events for The Bach Choir of Bethlehem
BEGIN:VTIMEZONE
TZID:America/Halifax
BEGIN:DAYLIGHT
TZOFFSETFROM:-0400
TZOFFSETTO:-0300
TZNAME:ADT
DTSTART:20180311T060000
END:DAYLIGHT
BEGIN:STANDARD
TZOFFSETFROM:-0300
TZOFFSETTO:-0400
TZNAME:AST
DTSTART:20181104T050000
END:STANDARD
END:VTIMEZONE
BEGIN:VEVENT
DTSTART;TZID=America/Halifax:20180512T190000
DTEND;TZID=America/Halifax:20180512T213000
DTSTAMP:20260422T125117
CREATED:20170925T191513Z
LAST-MODIFIED:20180315T141701Z
UID:870-1526151600-1526160600@bach.org
SUMMARY:Zimmermann’s Coffee House
DESCRIPTION:This relaxed event is modeled after Zimmermann’s Coffee House of Bach’s time in Leipzig. The event is held café style in the charming Peter Hall at Moravian College with its famous 19th century stained glass windows. Cover Charge of $25 includes one drink voucher. You will hear Baroque chamber music performed by young musicians (chosen by audition); menu of German fare\, wine\, and beer available for purchase. There will also be appearances by Greg Funfgeld and friends to add to the festivities. Spend the evening at Zimmermann’s! \nShare This:
URL:https://bach.org/event/zimmermanns-coffee-house/
LOCATION:Peter Hall\, Moravian University\, 348 Main Street\, Bethlehem\, PA\, 18018\, United States
CATEGORIES:Bach Festival,First Weekend
GEO:40.6186122;-75.382709
X-APPLE-STRUCTURED-LOCATION;VALUE=URI;X-ADDRESS=Peter Hall Moravian University 348 Main Street Bethlehem PA 18018 United States;X-APPLE-RADIUS=500;X-TITLE=348 Main Street:geo:-75.382709,40.6186122
END:VEVENT
END:VCALENDAR