BEGIN:VCALENDAR
VERSION:2.0
PRODID:-//The Bach Choir of Bethlehem - ECPv5.16.3.1//NONSGML v1.0//EN
CALSCALE:GREGORIAN
METHOD:PUBLISH
X-WR-CALNAME:The Bach Choir of Bethlehem
X-ORIGINAL-URL:https://bach.org
X-WR-CALDESC:Events for The Bach Choir of Bethlehem
BEGIN:VTIMEZONE
TZID:America/New_York
BEGIN:DAYLIGHT
TZOFFSETFROM:-0500
TZOFFSETTO:-0400
TZNAME:EDT
DTSTART:20230312T070000
END:DAYLIGHT
BEGIN:STANDARD
TZOFFSETFROM:-0400
TZOFFSETTO:-0500
TZNAME:EST
DTSTART:20231105T060000
END:STANDARD
END:VTIMEZONE
BEGIN:VEVENT
DTSTART;TZID=America/New_York:20230930T193000
DTEND;TZID=America/New_York:20230930T213000
DTSTAMP:20260422T173501
CREATED:20230526T185723Z
LAST-MODIFIED:20230731T175354Z
UID:11239-1696102200-1696109400@bach.org
SUMMARY:Zimmermann's Coffee House: Oktoberfest Edition
DESCRIPTION:Mark your calendars and join us on September 30\, 2023\, as we present Zimmermann’s Coffeehouse FIRST-EVER Oktoberfest Edition — a celebration of German culture and music! \nWe return to the exquisite Peter Hall at Moravian University\, adorned with stunning 19th-century stained glass windows and superb acoustics. \nImmerse yourself in the ambiance of Bach’s Leipzig as you indulge in delicious light fare\, authentic German beer\, and captivating music\, performed by talented students\, chosen by audition. \nTicket sales begin on August 1\, 2023\, and will go quickly! Make your plans to join us for a uniquely casual and fun Oktoberfest experience that blends history\, culture\, and music in perfect harmony! \nClick Here to Purchase Your Tickets! \nShare This:
URL:https://bach.org/event/zimmermanns-coffee-house-oktoberfest-edition/
LOCATION:Peter Hall\, Moravian University\, 348 Main Street\, Bethlehem\, PA\, 18018\, United States
GEO:40.6186122;-75.382709
X-APPLE-STRUCTURED-LOCATION;VALUE=URI;X-ADDRESS=Peter Hall Moravian University 348 Main Street Bethlehem PA 18018 United States;X-APPLE-RADIUS=500;X-TITLE=348 Main Street:geo:-75.382709,40.6186122
END:VEVENT
END:VCALENDAR