BEGIN:VCALENDAR
VERSION:2.0
PRODID:-//The Bach Choir of Bethlehem - ECPv5.16.3.1//NONSGML v1.0//EN
CALSCALE:GREGORIAN
METHOD:PUBLISH
X-WR-CALNAME:The Bach Choir of Bethlehem
X-ORIGINAL-URL:https://bach.org
X-WR-CALDESC:Events for The Bach Choir of Bethlehem
BEGIN:VTIMEZONE
TZID:America/New_York
BEGIN:DAYLIGHT
TZOFFSETFROM:-0500
TZOFFSETTO:-0400
TZNAME:EDT
DTSTART:20240310T070000
END:DAYLIGHT
BEGIN:STANDARD
TZOFFSETFROM:-0400
TZOFFSETTO:-0500
TZNAME:EST
DTSTART:20241103T060000
END:STANDARD
END:VTIMEZONE
BEGIN:VEVENT
DTSTART;TZID=America/New_York:20240517T140000
DTEND;TZID=America/New_York:20240517T150000
DTSTAMP:20260422T002638
CREATED:20240117T155539Z
LAST-MODIFIED:20240419T203031Z
UID:11869-1715954400-1715958000@bach.org
SUMMARY:The Barnette Distinguished Scholar Lecture- Dr. Marissen
DESCRIPTION:Join us for this free lecture and spend an hour in the company of one of the great Bach scholars of our time. He will discuss how Bach’s church cantatas and secular chamber music sometimes exalt instruments of low degree (such as the recorder) and put down from their seats mighty instruments (such as the violin). Dr. Marissen is the Daniel Underhill Professor Emeritus of Music at Swarthmore College. \nShare This:
URL:https://bach.org/event/the-barnette-distinguished-scholar-lecture-dr-marissen/
LOCATION:Zoellner Arts Center\, Bethlehem\, 420 E. Packer Ave.\, Bethlehem\, PA\, 18015\, United States
CATEGORIES:Second Weekend
GEO:40.6080537;-75.3724816
X-APPLE-STRUCTURED-LOCATION;VALUE=URI;X-ADDRESS=Zoellner Arts Center Bethlehem 420 E. Packer Ave. Bethlehem PA 18015 United States;X-APPLE-RADIUS=500;X-TITLE=420 E. Packer Ave.:geo:-75.3724816,40.6080537
END:VEVENT
END:VCALENDAR