BEGIN:VCALENDAR
VERSION:2.0
PRODID:-//The Bach Choir of Bethlehem - ECPv5.16.3.1//NONSGML v1.0//EN
CALSCALE:GREGORIAN
METHOD:PUBLISH
X-WR-CALNAME:The Bach Choir of Bethlehem
X-ORIGINAL-URL:https://bach.org
X-WR-CALDESC:Events for The Bach Choir of Bethlehem
BEGIN:VTIMEZONE
TZID:America/Halifax
BEGIN:DAYLIGHT
TZOFFSETFROM:-0400
TZOFFSETTO:-0300
TZNAME:ADT
DTSTART:20190310T060000
END:DAYLIGHT
BEGIN:STANDARD
TZOFFSETFROM:-0300
TZOFFSETTO:-0400
TZNAME:AST
DTSTART:20191103T050000
END:STANDARD
END:VTIMEZONE
BEGIN:VEVENT
DTSTART;TZID=America/Halifax:20190413T200000
DTEND;TZID=America/Halifax:20190413T220000
DTSTAMP:20260422T020140
CREATED:20180530T183252Z
LAST-MODIFIED:20190405T120551Z
UID:3543-1555185600-1555192800@bach.org
SUMMARY:Spring Concert: Mozart Requiem with The Lehigh University Philharmonic
DESCRIPTION:Greg Funfgeld conducts members of The Bach Choir and The Bach Festival Orchestra alongside Lehigh University Philharmonic Orchestra to present a program of Mozart and Walton. \nOne of the most familiar and beloved classical compositions of all time\, Mozart’s Requiem in D Minor\, K626\, evokes some of the deepest feelings of loss and anguish\, along with consolation and redemption. This stirring program includes his Concerto No. 21 in C Major\, K467\, with Eugene Albulescu\, piano\, and William Walton’s Coronation Te Deum (symphonic version). \nJoin us for this poignant musical experience. \n\nWilliam Walton:\n\nCoronation Te Deum (Symphonic Version)\n\n\nWolfgang Amadeus Mozart:\n\nPiano Concerto No. 21 in C Major\, K467 – Eugene Albulescu\, piano\nRequiem in D Minor\, K626\n\n\n\nPlease note:  Tickets available through The Bach Choir Ticket office until Thursday\, April 4\, 2019.  After that\, please purchase your tickets directly from The Zoellner Box Office or call them at   610.758.2787.    \n\n\n\n \nShare This:
URL:https://bach.org/event/spring-concert-with-lehigh-university-philharmonic-2/
LOCATION:Zoellner Arts Center\, Bethlehem\, 420 E. Packer Ave.\, Bethlehem\, PA\, 18015\, United States
GEO:40.6080537;-75.3724816
X-APPLE-STRUCTURED-LOCATION;VALUE=URI;X-ADDRESS=Zoellner Arts Center Bethlehem 420 E. Packer Ave. Bethlehem PA 18015 United States;X-APPLE-RADIUS=500;X-TITLE=420 E. Packer Ave.:geo:-75.3724816,40.6080537
END:VEVENT
END:VCALENDAR