BEGIN:VCALENDAR
VERSION:2.0
PRODID:-//The Bach Choir of Bethlehem - ECPv5.16.3.1//NONSGML v1.0//EN
CALSCALE:GREGORIAN
METHOD:PUBLISH
X-WR-CALNAME:The Bach Choir of Bethlehem
X-ORIGINAL-URL:https://bach.org
X-WR-CALDESC:Events for The Bach Choir of Bethlehem
BEGIN:VTIMEZONE
TZID:America/New_York
BEGIN:DAYLIGHT
TZOFFSETFROM:-0500
TZOFFSETTO:-0400
TZNAME:EDT
DTSTART:20240310T070000
END:DAYLIGHT
BEGIN:STANDARD
TZOFFSETFROM:-0400
TZOFFSETTO:-0500
TZNAME:EST
DTSTART:20241103T060000
END:STANDARD
END:VTIMEZONE
BEGIN:VEVENT
DTSTART;TZID=America/New_York:20240511T143000
DTEND;TZID=America/New_York:20240511T163000
DTSTAMP:20260422T065646
CREATED:20230925T190818Z
LAST-MODIFIED:20240419T202822Z
UID:11640-1715437800-1715445000@bach.org
SUMMARY:Mass in B Minor Part 1 and 2
DESCRIPTION:For over a century\, The Choir has been bringing Bach’s breathtaking Mass in B Minor to life. It’s not just a cherished tradition for us – it’s a melodic bridge that connects long-time companions and first-time listeners in a warm musical embrace. Be a part of this remarkable musical journey as we extend the reach of this colossal masterpiece with our global community through the livestream option on May 11. \nShare This:
URL:https://bach.org/event/mass-in-b-minor/
LOCATION:Packer Memorial Church\, 18 University Drive\, Bethlehem\, PA\, 18015\, United States
CATEGORIES:First Weekend
GEO:40.6077491;-75.3775613
X-APPLE-STRUCTURED-LOCATION;VALUE=URI;X-ADDRESS=Packer Memorial Church 18 University Drive Bethlehem PA 18015 United States;X-APPLE-RADIUS=500;X-TITLE=18 University Drive:geo:-75.3775613,40.6077491
END:VEVENT
END:VCALENDAR