BEGIN:VCALENDAR
VERSION:2.0
PRODID:-//The Bach Choir of Bethlehem - ECPv5.16.3.1//NONSGML v1.0//EN
CALSCALE:GREGORIAN
METHOD:PUBLISH
X-WR-CALNAME:The Bach Choir of Bethlehem
X-ORIGINAL-URL:https://bach.org
X-WR-CALDESC:Events for The Bach Choir of Bethlehem
BEGIN:VTIMEZONE
TZID:America/New_York
BEGIN:DAYLIGHT
TZOFFSETFROM:-0500
TZOFFSETTO:-0400
TZNAME:EDT
DTSTART:20240310T070000
END:DAYLIGHT
BEGIN:STANDARD
TZOFFSETFROM:-0400
TZOFFSETTO:-0500
TZNAME:EST
DTSTART:20241103T060000
END:STANDARD
END:VTIMEZONE
BEGIN:VEVENT
DTSTART;TZID=America/New_York:20240511T140000
DTEND;TZID=America/New_York:20240511T163000
DTSTAMP:20260422T085529
CREATED:20240305T160815Z
LAST-MODIFIED:20240305T160833Z
UID:12097-1715436000-1715445000@bach.org
SUMMARY:Mass in B Minor | LIVESTREAM OPTION
DESCRIPTION:LIVE-STREAMED Mass in B Minor performance from Packer Memorial Church at the 116th Bethlehem Bach Festival to our virtual audience on May 11\, 2024. \nThank you for joining us from your corner of the world to share this glorious concert – welcome! \nShare This:
URL:https://bach.org/event/mass-in-b-minor-livestream-option/
CATEGORIES:First Weekend
END:VEVENT
END:VCALENDAR