BEGIN:VCALENDAR
VERSION:2.0
PRODID:-//The Bach Choir of Bethlehem - ECPv5.16.3.1//NONSGML v1.0//EN
CALSCALE:GREGORIAN
METHOD:PUBLISH
X-WR-CALNAME:The Bach Choir of Bethlehem
X-ORIGINAL-URL:https://bach.org
X-WR-CALDESC:Events for The Bach Choir of Bethlehem
BEGIN:VTIMEZONE
TZID:America/New_York
BEGIN:DAYLIGHT
TZOFFSETFROM:-0500
TZOFFSETTO:-0400
TZNAME:EDT
DTSTART:20230312T070000
END:DAYLIGHT
BEGIN:STANDARD
TZOFFSETFROM:-0400
TZOFFSETTO:-0500
TZNAME:EST
DTSTART:20231105T060000
END:STANDARD
END:VTIMEZONE
BEGIN:VEVENT
DTSTART;TZID=America/New_York:20230513T143000
DTEND;TZID=America/New_York:20230513T163000
DTSTAMP:20260422T165848
CREATED:20220929T191804Z
LAST-MODIFIED:20230510T203936Z
UID:10749-1683988200-1683995400@bach.org
SUMMARY:Mass in B Minor - Live-streamed
DESCRIPTION:Part 1 • 2:30pm\nPart 2 • 4:30pm\nPlease note:  The May 13 live-streamed performance will be available starting at 2 pm.\nONLINE ticketing closes at 2:00pm on May 13.    \n  \nJoin us from wherever you are as we live-stream this concert on Saturday\, May 13. Dr. Christopher Jackson conducts The Choir\, Bach Festival Orchestra and soloists at our 115th Bethlehem Bach Festival – his first as our Artistic Director and Conductor.  The Mass is our treasured tradition\, attended and warmly received by thousands of people from around the country and around the world since the American premiere of Bach’s monumental Mass at the very first Bethlehem Bach Festival in 1900. \nWelcome to our virtual events troubleshooting support page! Below you will find answers to many frequently asked questions about our streaming platform. We use Patron Manager to give you access to livestream events or previously recorded material for a designated period of viewing. \nFAQ’s about viewing Bach’s Mass in B Minor\, from The Bach Choir of Bethlehem \nHow do I access my virtual event? \nOnce you have made your purchase\, you will receive a Ticket Confirmation email with instructions on how to watch. The email will contain a custom ticket link for your viewing on the device of your choosing. Each ticket purchased allows you to access your content on one device at a time. \nLooking for your e-mail confirmation? Double check your spam/junk folder! \nWhich devices can I use to stream? \nYour experience is largely determined by your internet connection\, not necessarily your device. The Patron Manager platform automatically provides optimized versions of the content for different devices and connection speeds\, in real time. So\, as long as you can access the internet with a strong connection\, most mobile phones\, tablets\, laptops and computers are suitable. \nCan I watch the video on my TV? \nWe’d love for you to cast the performance to your big screen!  While the platform does not support functionality like Smart TV or Apple TV\, it does work with Chromecast on Android (casting the entire browser tab) and Apple Airplay. Patrons who can access their email via their Smart TV should also be able to click their ticket link and open it in a browser on their TV that way. \nUnfortunately\, with so many variations of Smart TVs and Smart TV software\, we aren’t able to provide additional troubleshooting for this type of hardware. \nThe easiest option is to use Chrome Casting\, AirPlay or screen mirroring to play the stream from your phone\, laptop or other device to your TV. You might see a slight decrease in quality with this option. You can also use an HDMI cable to connect your computer to the TV. \nIf your TV can access a web browser\, you can open that browser and log into your email. From there\, you can open the email we sent you and click on your link to stream. If you have trouble streaming on an older TV\, you may have better luck switching to an alternate device. \nCLICK HERE for a list of steps for some common casting setups. \nUnfortunately\, due to the sheer number and variations of smart TVs and smart TV software\, we aren’t able to troubleshoot individual hardware issues. \nWhat’s the ideal browser to use? \nMost modern desktop and mobile browsers\, including Chrome\, Firefox\, Edge\, and Safari\, are compatible with Patron Manager Virtual Events. \nThe following browsers are officially supported: \n\nChrome for Android 34+\nChrome for Desktop 34+\nFirefox for Android 41+\nFirefox for Desktop 42+\nEdge for Windows 10+\nSafari for Mac 8+ (beta)\n\n  \nHow can I ensure the best streaming experience? \nFor performance time\, if you’re experiencing issues\, a first step might be to turn the wi-fi off on your other devices. Or\, for the strongest connection\, connect your device to your router directly with an ethernet cable. \nCan I watch the performance again after it’s over? \nYour On-Demand ticket will be sent to your email 24 hours following the concert and you will have access to view the recorded version of the live performance until Saturday\, December 31st. \nHaving trouble viewing right now? Try these six steps to fix your stream:\n\nTry refreshing your browser.  Don’t forget to click the play button after it reloads.\nTry switching to a different browser.\nTry using the browser under ‘incognito/private’ mode.\nTry disabling an ad-blocking software or browser plugins\nTry a different device.\nGo to speedtest.net and test your internet bandwidth.  You’ll want at least 2Mbps to view the video.\n\nFor support during livestream\, please contact the Box Office at office@bach.org. Expect an email with next steps.\nShare This:
URL:https://bach.org/event/mass-in-b-minor-live-streamed/
LOCATION:Virtual
END:VEVENT
END:VCALENDAR