BEGIN:VCALENDAR
VERSION:2.0
PRODID:-//The Bach Choir of Bethlehem - ECPv5.16.3.1//NONSGML v1.0//EN
CALSCALE:GREGORIAN
METHOD:PUBLISH
X-WR-CALNAME:The Bach Choir of Bethlehem
X-ORIGINAL-URL:https://bach.org
X-WR-CALDESC:Events for The Bach Choir of Bethlehem
BEGIN:VTIMEZONE
TZID:America/New_York
BEGIN:DAYLIGHT
TZOFFSETFROM:-0500
TZOFFSETTO:-0400
TZNAME:EDT
DTSTART:20210314T070000
END:DAYLIGHT
BEGIN:STANDARD
TZOFFSETFROM:-0400
TZOFFSETTO:-0500
TZNAME:EST
DTSTART:20211107T060000
END:STANDARD
END:VTIMEZONE
BEGIN:VEVENT
DTSTART;TZID=America/New_York:20210228T150000
DTEND;TZID=America/New_York:20210228T163000
DTSTAMP:20260421T190203
CREATED:20200423T220304Z
LAST-MODIFIED:20210226T181702Z
UID:6209-1614524400-1614529800@bach.org
SUMMARY:Greg Funfgeld Family Concert: Benjamin Britten's Young Person's Guide to the Orchestra - Cancelled
DESCRIPTION:The Greg Funfgeld Family Concert \n*** UPDATE:  Due to ongoing community health concerns surrounding Covid-19\, along with gathering restrictions that will impact both the musicians and our audience\, we regret to announce this concert has been cancelled. \nIf you have purchased tickets\, please click HERE to review your options. ***\nAt the center of our Family Concert is English composer Benjamin Britten’s show-stopping Young Person’s Guide to the Orchestra\, which will include the Lehigh University Philharmonic\, as well as dancers from Lehigh University and the Lehigh Valley Charter High School for the Performing Arts.   \nBritten’s Guide sets a theme by the English baroque composer\, Henry Purcell\, at the center of the kaleidoscope of his compositional skills while demonstrating the different sections of the orchestra.  Childlike wonder suffuses all of Britten’s music\, but perhaps none more than the Guide.  Expect orchestral fireworks\, intricate dance\, and much humor\, an exciting and exceptionally compelling introduction to the instruments and inner-workings of an orchestra. \nShare This:
URL:https://bach.org/event/greg-funfgeld-family-concert-benjamin-brittens-young-persons-guide-to-the-orchestra/
LOCATION:Zoellner Arts Center\, Bethlehem\, 420 E. Packer Ave.\, Bethlehem\, PA\, 18015\, United States
CATEGORIES:Family Concert
GEO:40.6080537;-75.3724816
X-APPLE-STRUCTURED-LOCATION;VALUE=URI;X-ADDRESS=Zoellner Arts Center Bethlehem 420 E. Packer Ave. Bethlehem PA 18015 United States;X-APPLE-RADIUS=500;X-TITLE=420 E. Packer Ave.:geo:-75.3724816,40.6080537
END:VEVENT
END:VCALENDAR