BEGIN:VCALENDAR
VERSION:2.0
PRODID:-//The Bach Choir of Bethlehem - ECPv5.16.3.1//NONSGML v1.0//EN
CALSCALE:GREGORIAN
METHOD:PUBLISH
X-WR-CALNAME:The Bach Choir of Bethlehem
X-ORIGINAL-URL:https://bach.org
X-WR-CALDESC:Events for The Bach Choir of Bethlehem
BEGIN:VTIMEZONE
TZID:America/Halifax
BEGIN:DAYLIGHT
TZOFFSETFROM:-0400
TZOFFSETTO:-0300
TZNAME:ADT
DTSTART:20170312T060000
END:DAYLIGHT
BEGIN:STANDARD
TZOFFSETFROM:-0300
TZOFFSETTO:-0400
TZNAME:AST
DTSTART:20171105T050000
END:STANDARD
END:VTIMEZONE
BEGIN:VEVENT
DTSTART;TZID=America/Halifax:20171111T160000
DTEND;TZID=America/Halifax:20171111T180000
DTSTAMP:20260422T172923
CREATED:20170920T211303Z
LAST-MODIFIED:20171102T173543Z
UID:670-1510416000-1510423200@bach.org
SUMMARY:Gala Concert — Thomanerchor (Boys Choir) from Leipzig ... SOLD OUT!
DESCRIPTION:4pm • Central Moravian Church\n6pm • Benefactor Cocktails\, Dinner & Auction\nSaucon Valley Country Club \nThank you for your support!  The THOMANERCHOR concert is SOLD OUT! Please call The Bach Choir Office to check on any tickets that become available: 610-866-4382 Ext. 115 or Ext. 110. \n\nDownload 2017 Gala Auction Items List \n“Surely this is what it must have been like to hear Bach lead the ensemble in one of his cantatas…an exquisite program of works by Bach and Vivaldi…This was a highlight of Lincoln Center’s White Light Festival.” \n—New York Times \nThe world-famous Thomanerchor (Saint Thomas Boys Choir)\, Bach’s own choir from Leipzig\, Germany will make one of their U.S. appearances this year in Bethlehem! \nEstablished in the year 1212\, the Thomanerchor was led by J.S. Bach for 27 years and together they premiered many of his works. Program includes three Bach motets – Der Geist Hilft; Komm\, Jesu\, Komm; and Fürchte dich nicht along with works by Heinrich Schütz\, Johann Hermann Schein\, and Felix Mendelssohn. \nThe music of J.S. Bach was first performed in the United States in Bethlehem at the Moravian Church.  \nAs we commemorate the 500th anniversary of the Reformation\, join us to hear this exquisite music performed by these supremely talented young men right here in Bethlehem. \n\n\nShare This:
URL:https://bach.org/event/gala-concert-thomanerchor-boys-choir-leipzig/
LOCATION:Central Moravian Church\, 73 West Church St.\, Bethlehem\, PA\, 18018\, United States
CATEGORIES:Gala Concert
ATTACH;FMTTYPE=image/jpeg:https://bach.org/wp-content/uploads/2017/09/Auschnitt-Thomanerchor_Thomaskirche_Leipzig_CopyrightMatthias-Knoch.jpg
GEO:40.6190224;-75.3816084
X-APPLE-STRUCTURED-LOCATION;VALUE=URI;X-ADDRESS=Central Moravian Church 73 West Church St. Bethlehem PA 18018 United States;X-APPLE-RADIUS=500;X-TITLE=73 West Church St.:geo:-75.3816084,40.6190224
END:VEVENT
END:VCALENDAR