BEGIN:VCALENDAR
VERSION:2.0
PRODID:-//The Bach Choir of Bethlehem - ECPv5.16.3.1//NONSGML v1.0//EN
CALSCALE:GREGORIAN
METHOD:PUBLISH
X-WR-CALNAME:The Bach Choir of Bethlehem
X-ORIGINAL-URL:https://bach.org
X-WR-CALDESC:Events for The Bach Choir of Bethlehem
BEGIN:VTIMEZONE
TZID:America/Halifax
BEGIN:DAYLIGHT
TZOFFSETFROM:-0400
TZOFFSETTO:-0300
TZNAME:ADT
DTSTART:20230312T060000
END:DAYLIGHT
BEGIN:STANDARD
TZOFFSETFROM:-0300
TZOFFSETTO:-0400
TZNAME:AST
DTSTART:20231105T050000
END:STANDARD
END:VTIMEZONE
BEGIN:VEVENT
DTSTART;TZID=America/Halifax:20230512T174500
DTEND;TZID=America/Halifax:20230512T193000
DTSTAMP:20260422T071102
CREATED:20190718T192717Z
LAST-MODIFIED:20230405T153541Z
UID:5003-1683913500-1683919800@bach.org
SUMMARY:Festival Dinner | Lecture
DESCRIPTION:  \nDelicious (and convenient!) dinner at the Festival\, please join us as Dr. Larry Lipkis offers remarks and insight into the music of Bach. \nSeating is limited and this event sells out quickly! \nDr. Larry Lipkis\, Professor of Music and Composer-in-Residence at Moravian University\nButz Lobby\, Zoellner Arts Center \nTickets/Registration required: no tickets available at the door. \nShare This:
URL:https://bach.org/event/festival-dinner-bach-at-8-pre-concert-lecture/
LOCATION:Zoellner Arts Center\, Bethlehem\, 420 E. Packer Ave.\, Bethlehem\, PA\, 18015\, United States
CATEGORIES:Bach Festival,Festival Dinner,First Weekend
GEO:40.6080537;-75.3724816
X-APPLE-STRUCTURED-LOCATION;VALUE=URI;X-ADDRESS=Zoellner Arts Center Bethlehem 420 E. Packer Ave. Bethlehem PA 18015 United States;X-APPLE-RADIUS=500;X-TITLE=420 E. Packer Ave.:geo:-75.3724816,40.6080537
END:VEVENT
END:VCALENDAR