BEGIN:VCALENDAR
VERSION:2.0
PRODID:-//The Bach Choir of Bethlehem - ECPv5.16.3.1//NONSGML v1.0//EN
CALSCALE:GREGORIAN
METHOD:PUBLISH
X-WR-CALNAME:The Bach Choir of Bethlehem
X-ORIGINAL-URL:https://bach.org
X-WR-CALDESC:Events for The Bach Choir of Bethlehem
BEGIN:VTIMEZONE
TZID:America/Halifax
BEGIN:DAYLIGHT
TZOFFSETFROM:-0400
TZOFFSETTO:-0300
TZNAME:ADT
DTSTART:20180311T060000
END:DAYLIGHT
BEGIN:STANDARD
TZOFFSETFROM:-0300
TZOFFSETTO:-0400
TZNAME:AST
DTSTART:20181104T050000
END:STANDARD
END:VTIMEZONE
BEGIN:VEVENT
DTSTART;TZID=America/Halifax:20180511T174500
DTEND;TZID=America/Halifax:20180511T174500
DTSTAMP:20260422T015608
CREATED:20170925T182744Z
LAST-MODIFIED:20180508T200555Z
UID:844-1526060700-1526060700@bach.org
SUMMARY:Dinner Discussion: SOLD OUT!
DESCRIPTION:Larry Lipkis\, Professor of Music and Composer-in-Residence at Moravian College. \n THIS EVENT IS SOLD OUT. The Dinner Discussion will be held in the Butz Lobby of Zoellner Arts Center. Registration is required. \nShare This:
URL:https://bach.org/event/dinner-discussion/
LOCATION:Zoellner Arts Center\, Bethlehem\, 420 E. Packer Ave.\, Bethlehem\, PA\, 18015\, United States
CATEGORIES:Bach Festival,First Weekend
GEO:40.6080537;-75.3724816
X-APPLE-STRUCTURED-LOCATION;VALUE=URI;X-ADDRESS=Zoellner Arts Center Bethlehem 420 E. Packer Ave. Bethlehem PA 18015 United States;X-APPLE-RADIUS=500;X-TITLE=420 E. Packer Ave.:geo:-75.3724816,40.6080537
END:VEVENT
END:VCALENDAR