BEGIN:VCALENDAR
VERSION:2.0
PRODID:-//The Bach Choir of Bethlehem - ECPv5.16.3.1//NONSGML v1.0//EN
CALSCALE:GREGORIAN
METHOD:PUBLISH
X-WR-CALNAME:The Bach Choir of Bethlehem
X-ORIGINAL-URL:https://bach.org
X-WR-CALDESC:Events for The Bach Choir of Bethlehem
BEGIN:VTIMEZONE
TZID:America/Halifax
BEGIN:DAYLIGHT
TZOFFSETFROM:-0400
TZOFFSETTO:-0300
TZNAME:ADT
DTSTART:20170312T060000
END:DAYLIGHT
BEGIN:STANDARD
TZOFFSETFROM:-0300
TZOFFSETTO:-0400
TZNAME:AST
DTSTART:20171105T050000
END:STANDARD
END:VTIMEZONE
BEGIN:VEVENT
DTSTART;TZID=America/Halifax:20171210T160000
DTEND;TZID=America/Halifax:20171210T160000
DTSTAMP:20260422T065646
CREATED:20170921T034513Z
LAST-MODIFIED:20190201T202326Z
UID:719-1512921600-1512921600@bach.org
SUMMARY:Christmas Concert
DESCRIPTION:“It glitters with carols spanning five centuries in five languages all bound together with stories and poems telling the story of Christmas….akin to unwrapping a Christmas present\, opening as it does with the hushed voices of children expressing delights and awe.”   \n— Steve Siegel\, The Morning Call\, 2013  \nOur wonderful holiday tradition continues…The Bach Choir of Bethlehem and the carols of Christmas. Rediscover the wonder and delight of Christmas at the first live performance of our beloved CD A Child’s Christmas in Bethlehem\, from The Bach Choir of Bethlehem\, with The Bel Canto Children’s Chorus. The Choir\, and the voices of children\, offers both spoken word and uplifting choral music centered on the story of the Nativity that creates a beautiful meditation on the meaning of Christmas. The program features soloist David Newman performing Ralph Vaughan Williams Fantasia on Christmas Carols\, Tom Goeman’s beautiful arrangement of O Holy Night\, and the children offer the Native American Huron Carol and English The Gentyle Storcke. The program also includes traditional favorites for the audience to join in our annual sing along with the choir. \nPlease note – this is a General Admission concert.  Tickets purchased  AFTER December 4 will be held for pick-up at the WILL CALL desk at the venue. \nFrom A Child’s Christmas in Bethlehem on the Analekta label\, 2013 \nPlay Ding Dong Merrily On High\n\n\nPlay Noël Nouvelet\n\n\nShare This:
URL:https://bach.org/event/christmas-concert-2/
LOCATION:First Presbyterian Church\, Bethlehem\, 2344 Center St.\, Bethlehem\, PA\, 18017\, United States
CATEGORIES:BC Performance,Christmas Concert
ATTACH;FMTTYPE=image/jpeg:https://bach.org/wp-content/uploads/2017/10/choir.jpg
GEO:40.6455007;-75.3737298
X-APPLE-STRUCTURED-LOCATION;VALUE=URI;X-ADDRESS=First Presbyterian Church Bethlehem 2344 Center St. Bethlehem PA 18017 United States;X-APPLE-RADIUS=500;X-TITLE=2344 Center St.:geo:-75.3737298,40.6455007
END:VEVENT
END:VCALENDAR