BEGIN:VCALENDAR
VERSION:2.0
PRODID:-//The Bach Choir of Bethlehem - ECPv5.16.3.1//NONSGML v1.0//EN
CALSCALE:GREGORIAN
METHOD:PUBLISH
X-WR-CALNAME:The Bach Choir of Bethlehem
X-ORIGINAL-URL:https://bach.org
X-WR-CALDESC:Events for The Bach Choir of Bethlehem
BEGIN:VTIMEZONE
TZID:America/New_York
BEGIN:DAYLIGHT
TZOFFSETFROM:-0500
TZOFFSETTO:-0400
TZNAME:EDT
DTSTART:20250309T070000
END:DAYLIGHT
BEGIN:STANDARD
TZOFFSETFROM:-0400
TZOFFSETTO:-0500
TZNAME:EST
DTSTART:20251102T060000
END:STANDARD
END:VTIMEZONE
BEGIN:VEVENT
DTSTART;TZID=America/New_York:20250511T143000
DTEND;TZID=America/New_York:20250511T153000
DTSTAMP:20260422T231525
CREATED:20240730T164515Z
LAST-MODIFIED:20250422T173641Z
UID:12417-1746973800-1746977400@bach.org
SUMMARY:Cantata in Context
DESCRIPTION:Join us for an enriching exploration of Bach’s cantatas at Central Moravian Church. In our “Cantata in Context” concert\, deepen your understanding as Daniel R. Melamed\, Barnette Distinguished Scholar Lecturer\, delves into the historical and musical intricacies of a featured cantata. Experience the cantata performed twice: once before Melamed’s enlightening lecture and again afterward\, offering a unique perspective and enhanced appreciation of Bach’s masterful composition. \nGet Tickets \nShare This:
URL:https://bach.org/event/cantata-in-context/
LOCATION:Central Moravian Church\, 73 West Church St.\, Bethlehem\, PA\, 18018\, United States
CATEGORIES:First Weekend
GEO:40.6190224;-75.3816084
X-APPLE-STRUCTURED-LOCATION;VALUE=URI;X-ADDRESS=Central Moravian Church 73 West Church St. Bethlehem PA 18018 United States;X-APPLE-RADIUS=500;X-TITLE=73 West Church St.:geo:-75.3816084,40.6190224
END:VEVENT
END:VCALENDAR