BEGIN:VCALENDAR
VERSION:2.0
PRODID:-//The Bach Choir of Bethlehem - ECPv5.16.3.1//NONSGML v1.0//EN
CALSCALE:GREGORIAN
METHOD:PUBLISH
X-WR-CALNAME:The Bach Choir of Bethlehem
X-ORIGINAL-URL:https://bach.org
X-WR-CALDESC:Events for The Bach Choir of Bethlehem
BEGIN:VTIMEZONE
TZID:America/Halifax
BEGIN:DAYLIGHT
TZOFFSETFROM:-0400
TZOFFSETTO:-0300
TZNAME:ADT
DTSTART:20180311T060000
END:DAYLIGHT
BEGIN:STANDARD
TZOFFSETFROM:-0300
TZOFFSETTO:-0400
TZNAME:AST
DTSTART:20181104T050000
END:STANDARD
END:VTIMEZONE
BEGIN:VEVENT
DTSTART;TZID=America/Halifax:20180511T120000
DTEND;TZID=America/Halifax:20180511T120000
DTSTAMP:20260422T110248
CREATED:20170925T172740Z
LAST-MODIFIED:20180501T132349Z
UID:805-1526040000-1526040000@bach.org
SUMMARY:Bach Outdoors!
DESCRIPTION:FREE   CONCERT!  \nThe Festival opens outdoors on the Plaza adjacent to City Hall and the Bethlehem Public Library on Church Street.  The program will be offered by principal violist Paul Miller\, along with Festival artist-in-residence She-e Wu\, and cellist and Bach in the Subways founder Dale Henderson.  They’ll perform some of Bach’s most beloved pieces on cello and also arranged for violin and marimba. \nNOTE: This event will be held outdoors\, near Bethlehem City Hall and Public Library on Church Street (north side of Bethlehem). Inclement weather location: The Old Chapel\, 412 Heckewelder Place\, next to the Moravian Museum.  \nShare This:
URL:https://bach.org/event/bach-outdoors/
LOCATION:Payrow Plaza\, 10 East Church Street\, Bethlehem\, PA\, 18018\, United States
CATEGORIES:Bach Festival,First Weekend
GEO:40.6182414;-75.3778801
X-APPLE-STRUCTURED-LOCATION;VALUE=URI;X-ADDRESS=Payrow Plaza 10 East Church Street Bethlehem PA 18018 United States;X-APPLE-RADIUS=500;X-TITLE=10 East Church Street:geo:-75.3778801,40.6182414
END:VEVENT
END:VCALENDAR