BEGIN:VCALENDAR
VERSION:2.0
PRODID:-//The Bach Choir of Bethlehem - ECPv5.16.3.1//NONSGML v1.0//EN
CALSCALE:GREGORIAN
METHOD:PUBLISH
X-WR-CALNAME:The Bach Choir of Bethlehem
X-ORIGINAL-URL:https://bach.org
X-WR-CALDESC:Events for The Bach Choir of Bethlehem
BEGIN:VTIMEZONE
TZID:America/Halifax
BEGIN:DAYLIGHT
TZOFFSETFROM:-0400
TZOFFSETTO:-0300
TZNAME:ADT
DTSTART:20190310T060000
END:DAYLIGHT
BEGIN:STANDARD
TZOFFSETFROM:-0300
TZOFFSETTO:-0400
TZNAME:AST
DTSTART:20191103T050000
END:STANDARD
END:VTIMEZONE
BEGIN:VEVENT
DTSTART;TZID=America/Halifax:20190517T120000
DTEND;TZID=America/Halifax:20190517T131500
DTSTAMP:20260422T033146
CREATED:20190218T194813Z
LAST-MODIFIED:20190516T131839Z
UID:4505-1558094400-1558098900@bach.org
SUMMARY:Bach Outdoors
DESCRIPTION:FREE Concert!  Join us on Friday at noon as we enjoy a Spring afternoon in Bethlehem\, and open our Festival weekends with a very special performance by principal violist\, Paul Miller and friends as they perform using electric violin along with other modern instruments to offer some classic pieces.  Paul is joined this year by the MainStreet Brass. \nJohann Sebastian Bach (1685-1750) – Sixth Cello Suite on 5-string electric violin \nBrass Quintet arrangements\nJohann Sebastian Bach – Contrapunctus IX from the Art of Fugue\nJohann Sebastian Bach & Antonio Vivaldi (1678 – 1741) – Concerto in C Minor\nJohann Sebastian Bach – Wit eilen mit schwachen\, doch emsigen Schritten from Cantata BWV 78\nSamuel Scheidt (1587-1654) – Dances and canzonas \nWEATHER LOCATION UPDATE!  Due to the forecast\, the Concert on May 17 will be held INDOORS at The Old Chapel\, across from Central Moravian Church on Heckewelder Place.\nShare This:
URL:https://bach.org/event/bach-outdoors-4/
LOCATION:Payrow Plaza\, 10 East Church Street\, Bethlehem\, PA\, 18018\, United States
CATEGORIES:Bach Festival,Second Weekend
GEO:40.6182414;-75.3778801
X-APPLE-STRUCTURED-LOCATION;VALUE=URI;X-ADDRESS=Payrow Plaza 10 East Church Street Bethlehem PA 18018 United States;X-APPLE-RADIUS=500;X-TITLE=10 East Church Street:geo:-75.3778801,40.6182414
END:VEVENT
END:VCALENDAR