BEGIN:VCALENDAR
VERSION:2.0
PRODID:-//The Bach Choir of Bethlehem - ECPv5.16.3.1//NONSGML v1.0//EN
CALSCALE:GREGORIAN
METHOD:PUBLISH
X-WR-CALNAME:The Bach Choir of Bethlehem
X-ORIGINAL-URL:https://bach.org
X-WR-CALDESC:Events for The Bach Choir of Bethlehem
BEGIN:VTIMEZONE
TZID:America/New_York
BEGIN:DAYLIGHT
TZOFFSETFROM:-0500
TZOFFSETTO:-0400
TZNAME:EDT
DTSTART:20230312T070000
END:DAYLIGHT
BEGIN:STANDARD
TZOFFSETFROM:-0400
TZOFFSETTO:-0500
TZNAME:EST
DTSTART:20231105T060000
END:STANDARD
END:VTIMEZONE
BEGIN:VEVENT
DTSTART;TZID=America/New_York:20231010T120000
DTEND;TZID=America/New_York:20231010T130000
DTSTAMP:20260422T153823
CREATED:20230815T154003Z
LAST-MODIFIED:20231010T124551Z
UID:11442-1696939200-1696942800@bach.org
SUMMARY:Bach at Noon | October 10
DESCRIPTION:Join us in celebrating our 130th Bethlehem Bach at Noon on October 10\, 2023\, at Central Moravian Church! Enjoy an all-Bach program presented by Christopher Jackson\, The Bach Choir\, and Bach Festival Orchestra. We look forward to sharing this afternoon delight with you!\nSoloists:\nKim Leads\, mezzo-soprano \nLawrence Jones\, tenor\nDavid Newman\, baritone\n  \nCan’t join us in person? Join us virtually!\nClick here to live-stream on YouTube  \nPROGRAM: \nClick here to view or print the program. \n \nShare This:
URL:https://bach.org/event/bach-at-noon-october-10/
LOCATION:Central Moravian Church\, 73 West Church St.\, Bethlehem\, PA\, 18018\, United States
CATEGORIES:Bach at Noon
GEO:40.6190224;-75.3816084
X-APPLE-STRUCTURED-LOCATION;VALUE=URI;X-ADDRESS=Central Moravian Church 73 West Church St. Bethlehem PA 18018 United States;X-APPLE-RADIUS=500;X-TITLE=73 West Church St.:geo:-75.3816084,40.6190224
END:VEVENT
END:VCALENDAR