BEGIN:VCALENDAR
VERSION:2.0
PRODID:-//The Bach Choir of Bethlehem - ECPv5.16.3.1//NONSGML v1.0//EN
CALSCALE:GREGORIAN
METHOD:PUBLISH
X-WR-CALNAME:The Bach Choir of Bethlehem
X-ORIGINAL-URL:https://bach.org
X-WR-CALDESC:Events for The Bach Choir of Bethlehem
BEGIN:VTIMEZONE
TZID:America/New_York
BEGIN:DAYLIGHT
TZOFFSETFROM:-0500
TZOFFSETTO:-0400
TZNAME:EDT
DTSTART:20210314T070000
END:DAYLIGHT
BEGIN:STANDARD
TZOFFSETFROM:-0400
TZOFFSETTO:-0500
TZNAME:EST
DTSTART:20211107T060000
END:STANDARD
END:VTIMEZONE
BEGIN:VEVENT
DTSTART;TZID=America/New_York:20210119T120000
DTEND;TZID=America/New_York:20210119T130000
DTSTAMP:20260421T223547
CREATED:20200424T165901Z
LAST-MODIFIED:20210119T160302Z
UID:6232-1611057600-1611061200@bach.org
SUMMARY:Bach at Noon January
DESCRIPTION:Join us – virtually – for our Bach at Noon concert recorded at Central Moravian Church in downtown Bethlehem.  The Bethlehem Bach at Noon program is presented in September\, October\, November\, January\, February\, March and April; there are no Bach at Noon performances in December or May. \nFor this month only\, the Bach at Noon virtual concert will be presented on the THIRD Tuesday of the month.  \nDue to Covid-19 restrictions\,  and following our own safety protocol\, we are unable to gather large groups of singers and instrumentalists or an audience. Each virtual performance features vocal soloists\, along with a small ensemble of  Bach Festival Orchestra members\, with an informative and lively introduction to each piece from conductor and artistic director\, Greg Funfgeld. \nGood will offerings gratefully received online! \nMATCHING GIFT announced!  This month\, we are especially grateful to longtime Guarantors Bonnie Gardner and Roberta Kaesemeyer Brown\, who have confirmed a Challenge Gift totaling $1\,000 for this concert. This means that every contribution we receive will be matched\, up to $1000!  If you’re able\, please consider making a donation as we begin 2021 and look forward to better days ahead for all. \nPrefer to give by phone? Text BNOON to 44-321. Thank you! \nWe hope you enjoy this gift of spiritual and musical refreshment from The Bach Choir of Bethlehem! \nReminder!  Rebroadcasts of Bach at Noon concerts are on WWFM!  Tune in at 1 pm on Monday\, January 25 for the August\, 2020 concert including music from Vivaldi\, Monteverdi\, Handel and Bach. \nFeatured soloists: Julie Bosworth\, soprano\, Janna Critz\, mezzo-soprano\, Elizabeth Field\, violin and Loretta O’Sullivan\, cello. \n“Join us” as we present Bach Together\, our January Watch Party – online in your home.\n\n \n  \n  \nTo access / print a PDF of the program\, CLICK HERE. \nTo view the program online\, CLICK HERE.  \n  \n  \n  \n\nweeks-27-5days0-1hours-1-1minutes-3-6seconds-4-7\n﻿ \nJANUARY Program: \nConcerto in F Major\, RV 488\nAntonio Vivaldi (1678-1741)\nAllegro non molto – Largo – (Allegro)\nCharles Holdeman\, bassoon \nFour Arias\nJohann Sebastian Bach (1685-1750)\nRosa Lamoreaux\, soprano \nfrom Cantata 199\, Nr. 4 – “Tief gebückt und voller Reue” \nfrom Cantata 187\, Nr. 5 – “Gott versorget alles Leben”\nfeaturing Mary Watt\, oboe \nfrom Cantata 49\, Nr. 4 – “Ich bin herrlich\, ich bin schön”\nfeaturing Mary Watt\, oboe d’amore; Loretta O’Sullivan\, cello; Charles Holdeman\, bassoon \nfrom The Mass in B Minor – Laudamus te\nfeaturing Elizabeth Field\, violin \nShare This:
URL:https://bach.org/event/bach-at-noon-january-2/
LOCATION:Central Moravian Church\, 73 West Church St.\, Bethlehem\, PA\, 18018\, United States
CATEGORIES:Bach at Noon
GEO:40.6190224;-75.3816084
X-APPLE-STRUCTURED-LOCATION;VALUE=URI;X-ADDRESS=Central Moravian Church 73 West Church St. Bethlehem PA 18018 United States;X-APPLE-RADIUS=500;X-TITLE=73 West Church St.:geo:-75.3816084,40.6190224
END:VEVENT
END:VCALENDAR