BEGIN:VCALENDAR
VERSION:2.0
PRODID:-//The Bach Choir of Bethlehem - ECPv5.16.3.1//NONSGML v1.0//EN
CALSCALE:GREGORIAN
METHOD:PUBLISH
X-WR-CALNAME:The Bach Choir of Bethlehem
X-ORIGINAL-URL:https://bach.org
X-WR-CALDESC:Events for The Bach Choir of Bethlehem
BEGIN:VTIMEZONE
TZID:America/New_York
BEGIN:DAYLIGHT
TZOFFSETFROM:-0500
TZOFFSETTO:-0400
TZNAME:EDT
DTSTART:20230312T070000
END:DAYLIGHT
BEGIN:STANDARD
TZOFFSETFROM:-0400
TZOFFSETTO:-0500
TZNAME:EST
DTSTART:20231105T060000
END:STANDARD
END:VTIMEZONE
BEGIN:VEVENT
DTSTART;TZID=America/New_York:20230808T120000
DTEND;TZID=America/New_York:20230808T130000
DTSTAMP:20260422T210140
CREATED:20230526T184858Z
LAST-MODIFIED:20230804T190501Z
UID:11235-1691496000-1691499600@bach.org
SUMMARY:Bach at Noon | August 8
DESCRIPTION:FREE admission! Join us for the Allentown Bach at Noon Summer Series on August 8 at St. John’s Lutheran Church. \nArtistic Director and Conductor\, Christopher Jackson lead members of The Bach Choir\, Bach Festival Orchestra\, and much-loved soloists! This free concert features Bach’s impassioned solo Cantata 199\, Mein Herze schwimmt im Blut\, beloved choral works by Mendelssohn\, Brahms\, and hymns from the American Shaker tradition. Nationally renowned soprano and featured soloist on our upcoming world-premiere recording\, Clara Rottsolk joins us for this exciting concert and preview of our historic 125th anniversary season. \nWe look forward to welcoming you! \nClick here to view the full program\nSoloists: \n  \n \n  \n  \n  \n\nShare This:
URL:https://bach.org/event/bach-at-noon-august-8/
LOCATION:St. John’s Lutheran Church\, 37 S. 5th Street\, Allentown\, PA\, 18101\, United States
CATEGORIES:Bach at Noon
GEO:40.6024794;-75.4671638
X-APPLE-STRUCTURED-LOCATION;VALUE=URI;X-ADDRESS=St. John’s Lutheran Church 37 S. 5th Street Allentown PA 18101 United States;X-APPLE-RADIUS=500;X-TITLE=37 S. 5th Street:geo:-75.4671638,40.6024794
END:VEVENT
END:VCALENDAR