BEGIN:VCALENDAR
VERSION:2.0
PRODID:-//The Bach Choir of Bethlehem - ECPv5.16.3.1//NONSGML v1.0//EN
CALSCALE:GREGORIAN
METHOD:PUBLISH
X-WR-CALNAME:The Bach Choir of Bethlehem
X-ORIGINAL-URL:https://bach.org
X-WR-CALDESC:Events for The Bach Choir of Bethlehem
BEGIN:VTIMEZONE
TZID:America/New_York
BEGIN:DAYLIGHT
TZOFFSETFROM:-0500
TZOFFSETTO:-0400
TZNAME:EDT
DTSTART:20240310T070000
END:DAYLIGHT
BEGIN:STANDARD
TZOFFSETFROM:-0400
TZOFFSETTO:-0500
TZNAME:EST
DTSTART:20241103T060000
END:STANDARD
END:VTIMEZONE
BEGIN:VEVENT
DTSTART;TZID=America/New_York:20240409T120000
DTEND;TZID=America/New_York:20240409T130000
DTSTAMP:20260422T052144
CREATED:20230815T154452Z
LAST-MODIFIED:20240408T132622Z
UID:11452-1712664000-1712667600@bach.org
SUMMARY:Bach at Noon | April 9
DESCRIPTION:Join us in Bethlehem for Bach at Noon this April at Central Moravian Church. On April 9th\, 2024\, performed by members of The Bach Choir and Bach Festival Orchestra\, under the baton of Artistic Director and Conductor\, Christopher Jackson. This cconcert will feature guest soloists Sylvia Lieth\, mezzo-soprano\, and Gene Stenger\, tenor. Experience a delightful repertoire including Antonio Vivaldi’s Concerto for Strings in A Major\, RV 158\, Jan Dismas Zelenka’s Hipocondrie à 7 Concertanti\, ZWV 187\, and Johann Sebastian Bach’s Cantata Ein Herz\, das seinen Jesum lebend weiss\, BWV 134. Don’t miss an afternoon of extraordinary music! \nClick here to view the digital program.  \nCan’t make it in person? Click here to listen live on WWFM. \n  \nShare This:
URL:https://bach.org/event/bach-at-noon-april-9/
LOCATION:Central Moravian Church\, 73 West Church St.\, Bethlehem\, PA\, 18018\, United States
GEO:40.6190224;-75.3816084
X-APPLE-STRUCTURED-LOCATION;VALUE=URI;X-ADDRESS=Central Moravian Church 73 West Church St. Bethlehem PA 18018 United States;X-APPLE-RADIUS=500;X-TITLE=73 West Church St.:geo:-75.3816084,40.6190224
END:VEVENT
END:VCALENDAR