BEGIN:VCALENDAR
VERSION:2.0
PRODID:-//The Bach Choir of Bethlehem - ECPv5.16.3.1//NONSGML v1.0//EN
CALSCALE:GREGORIAN
METHOD:PUBLISH
X-WR-CALNAME:The Bach Choir of Bethlehem
X-ORIGINAL-URL:https://bach.org
X-WR-CALDESC:Events for The Bach Choir of Bethlehem
BEGIN:VTIMEZONE
TZID:America/Halifax
BEGIN:DAYLIGHT
TZOFFSETFROM:-0400
TZOFFSETTO:-0300
TZNAME:ADT
DTSTART:20180311T060000
END:DAYLIGHT
BEGIN:STANDARD
TZOFFSETFROM:-0300
TZOFFSETTO:-0400
TZNAME:AST
DTSTART:20181104T050000
END:STANDARD
END:VTIMEZONE
BEGIN:VEVENT
DTSTART;TZID=America/Halifax:20180911T121000
DTEND;TZID=America/Halifax:20180911T130000
DTSTAMP:20260422T175629
CREATED:20180719T150448Z
LAST-MODIFIED:20180910T152105Z
UID:3695-1536667800-1536670800@bach.org
SUMMARY:Bach at Noon
DESCRIPTION:Join us to celebrate this milestone!! \n\nBach at Noon returns to Central Moravian Church this month\, when we’ll celebrate our 95th Bach at Noon in Bethlehem! The Bach at Noon program is presented on the second Tuesday of the month in Bethlehem in September\, October\, November\, January\, February\, March and April\, always free and open to the public. \nDoors open at 11:30 am and concerts begin at 12:10 pm. Each performance will feature soloists\, along with members of The Bach Choir and Bach Festival Orchestra\, with an informative and lively introduction to each piece from conductor and artistic director\, Greg Funfgeld. Good will offerings gratefully received! \nCome and enjoy this gift of spiritual and musical refreshment from the Bach Choir of Bethlehem! \nAnd for out-of-town Bach fans or if you can’t be in Bethlehem for the concert\, please tune in to WWFM\, who will broadcast every Bach at Noon performance this season!  We’ll post the schedule as promptly as possible. Click HERE for more information. \n  \nSEPTEMBER PROGRAM:\nJohann Sebastian Bach:\nSecond Suite for Orchestra in B Minor\, BWV 1067\nRobin Kani\, flute \nCantata 29 – “Wir danken dir\, Gott\, wir danken dir”\nLaura Heimes\, soprano\nGabriela Estephanie Solis\, mezzo-soprano\nStephen Ng\, tenor\nChristopher Jackson\, baritone \nShare This:
URL:https://bach.org/event/bach-at-noon-5/
LOCATION:Central Moravian Church\, 73 West Church St.\, Bethlehem\, PA\, 18018\, United States
CATEGORIES:Bach at Noon
GEO:40.6190224;-75.3816084
X-APPLE-STRUCTURED-LOCATION;VALUE=URI;X-ADDRESS=Central Moravian Church 73 West Church St. Bethlehem PA 18018 United States;X-APPLE-RADIUS=500;X-TITLE=73 West Church St.:geo:-75.3816084,40.6190224
END:VEVENT
END:VCALENDAR